Workbook
Name _____ACT1: #REF!
Name _____ACT2: #REF!
Name _____VLR1: (#REF!)
Name ____ACT1: #REF!
Name ____ACT2: #REF!
Name ____VLR1: (#REF!)
Name ___ACT1: #REF!
Name ___ACT2: #REF!
Name ___VLR1: (#REF!)
Name __ACT1: #REF!
Name __ACT2: #REF!
Name __POA2: #REF!
Name __VLR1: (#REF!)
Name _2: #REF!
Name _6: #REF!
Name _ACT1: #REF!
Name _ACT2: #REF!
Name _POA2: #REF!
Name _POAAAA: #REF!
Name _VLR1: (#REF!)
Name aaa: #REF!
Name AAAAAA: #REF!
Name ACUM: #REF!
Name ACUM1: (#REF!)
Name ACUM2: #REF!
Name alo: #REF!
Name e: #REF!
Name ffff: #REF!
Name Garfico1: #REF!
Name GGGGGGG: #REF!
Name GRAFI: #REF!
Name GRAFI1: #REF!
Name GRAFICO: #REF!
Name POA_21: #REF!
Name Pres: #REF!
Name PUNT1: #REF!
Name PUNT2: #REF!
Name RANGO1: #REF!
Name Reesumen: #REF!
Name Resumen: #REF!
Name resumencito: #REF!
Name SFGH: #REF!
Name Tabla_asignación: #REF!
Name Tabla_Recursos: #REF!
Name TTTTT: #REF!

Sheet Sigl.
A2: i. Siglas utilizadas en los Instrumentos de Planificación del Proyecto PN-L1146
A4: AAPP | B4: Áreas Protegidas
A5: BID | B5: Banco Interamericano de Desarrollo
A6: BPPP | B6: Bosque Protector y Paisaje Protegido
A7: CC | B7: Cuadro de Costos
A8: CD | B8: Contratación Directa
A9: CE | B9: Comité de Evaluación
A10: CGR | B10: Contraloría General de la República
A11: CI | B11: Carta de Invitación
A12: CP | B12: Comparación de Precios
A13: DDL | B13: Documentos de Licitación
A14: EDT | B14: Estructura Desglosada del Trabajo
A15: EE | B15: Esquema de Ejecución
... A50: UNESCO | B50: Organización de las Naciones Unidas para la Educación, la Ciencia y la Cultura

Sheet Crit
A1: ii. Criterios aplicados para la elaboración de los Instrumentos de Planificación del Proyecto (en desarrollo)

Sheet 1-Beneficiarios
B1: D- Versión: 0
B2: FUNDACIÓN NATURA
B3: Matriz de Resultados Ciclo de Proyectos
B5: Poblalción Objetivo | C5: Unidad Territorial o geográfica | D5: Caracterización
B6: % de hogares o viviendas | D6: % de viviendas
B7: Habitantes de la comunidad | D7: número de habitantes
B8: Criterios de inclusión / exclusión | D8: Brechas de género
B9: Institución rectora del recurso | D9: presencia institucional para supervisar
B10: Institución administradora del recurso | D10: Capacidad de gestión administrativa
B11: Otros socios estratégicos | D11: Capacidad de gestión administrativa
B13: Objetos de Conservación | C13: Unidad Territorial o geográfica o ecológica | D13: Atributo / Unidad de Medida
B14: Un hábitat natural crítico o vulnerable | D14: Cobertura boscosa
B15: cuerpo de agua crítico para la recarga de agua | D15: Calidad de agua, volumen de agua, diversidad de especies presentes
B16: la población de especies amenazadas | D16: Tamaño poblacional, distribución, éxito reproductivo, índicebiodiversidad
B17: Calidad del suelo en fincas ganaderas | D17: Materia orgnánica, infiltración de agua, compactación del suelo, toneladas de CO2, escorrentía superficial
B18: Institución rectora del recurso | D18: presencia y capacidad institucional para supervisar

Sheet 2 Objetivo General
B1: FUNDACIÓN NATURA
B2: Matriz de Resultados Ciclo de Proyectos
B4: Nombre del Proyecto: | C4: Elaboración e implementación de al menos 60 planes de manejo de finca (PMF), para el fortalecimiento de la ganadería sostenible y la agricultura climáticamente inteligente, incorporando tecnologías y soluciones basadas en la naturaleza en el Pacífico Central y Arco Seco de Panamá
B5: Objetivo General o impacto esperado del Proyecto | C5: Elaborar e implementar al menos 60 planes de manejo de finca que orienten la transición de fincas ganaderas y agrícolas del Pacífico Central y Arco Seco hacia sistemas de producción climáticamente inteligentes resilientes y biodiversos, mediante la incorporación de Soluciones Basadas en la Naturaleza, tecnologías de adaptación climática y mecanismos de capacitación y transferencia de conocimiento, con enfoque de género e interseccionalidad

Sheet 3- Resultados e Indicadores
B2: FUNDACIÓN NATURA Matriz de Resultados Ciclo de Proyectos
B4: Nombre del Proyecto: | C4: ='2 Objetivo General'!C4 -> Elaboración e implementación de al menos 60 planes de manejo de finca (PMF), para el fortalecimiento de la ganadería sostenible y la agricultura climáticamente inteligente, incorporando tecnologías y soluciones basadas en la naturaleza en el Pacífico Central y Arco Seco de Panamá
B5: Objetivo General o impacto esperado del Proyecto | C5: ='2 Objetivo General'!C5 -> Elaborar e implementar al menos 60 planes de manejo de finca que orienten la transición de fincas ganaderas y agrícolas del Pacífico Central y Arco Seco hacia sistemas de producción climáticamente inteligentes resilientes y biodiversos, mediante la incorporación de Soluciones Basadas en la Naturaleza, tecnologías de adaptación climática y mecanismos de capacitación y transferencia de conocimiento, con enfoque de género e interseccionalidad
B6: Indicador de Impacto Esperado o Resulado Final | C6: Línea Base | F6: Año de LB | G6: Meta | K6: ¿Cuándo se logra? | L6: Comentarios
B9: Resultado #1 - Objetivo Específico #1 - Componente 1
B11: Indicador de Resultado 1 | C11: Línea Base | F11: Año de LB | G11: Meta | K11: ¿Cuándo se logra? | L11: Comentarios
B14: Resultado #2 - Objetivo Específico #2 - Componente 2
B16: Indicador de Resultado 2 | C16: Línea Base | F16: Año de LB | G16: Meta | K16: ¿Cuándo se logra? | L16: Comentarios
B19: Resultado #3 - Objetivo Específico #3 - Componente 3
B21: Indicador de Resultado 3 | C21: Línea Base | F21: Año de LB | G21: Meta | K21: ¿Cuándo se logra? | L21: Comentarios

Sheet 4- Productos y Actividades
B2: FUNDACIÓN NATURA Matriz de Resultados Ciclo de Proyectos
B4: Matriz de Resultados del Proyecto
B6: Nombre del Proyecto: | C6: ='2 Objetivo General'!C4 -> Elaboración e implementación de al menos 60 planes de manejo de finca (PMF), para el fortalecimiento de la ganadería sostenible y la agricultura climáticamente inteligente, incorporando tecnologías y soluciones basadas en la naturaleza en el Pacífico Central y Arco Seco de Panamá
B7: Objetivo General o impacto esperado del Proyecto | C7: ='2 Objetivo General'!C5 -> Elaborar e implementar al menos 60 planes de manejo de finca que orienten la transición de fincas ganaderas y agrícolas del Pacífico Central y Arco Seco hacia sistemas de producción climáticamente inteligentes resilientes y biodiversos, mediante la incorporación de Soluciones Basadas en la Naturaleza, tecnologías de adaptación climática y mecanismos de capacitación y transferencia de conocimiento, con enfoque de género e interseccionalidad
B8: Indicador de Impacto Esperado o Resulado Final | C8: Línea Base | F8: Año de LB | G8: Meta | K8: ¿Cuándo se logra? | L8: Comentarios
B9: =+'3- Resultados e Indicadores'!B7 -> 0 | C9: =+'3- Resultados e Indicadores'!C7 -> 0 | F9: =+'3- Resultados e Indicadores'!F7 -> 0 | G9: =+'3- Resultados e Indicadores'!G7 -> 0 | K9: =+'3- Resultados e Indicadores'!K7 -> 0
B12: Resultado #1 - Objetivo Específico #1 - Componente 1
B13: =+'3- Resultados e Indicadores'!B10 -> 0
B14: Indicador de Resultado 1 | C14: Línea Base | F14: Año de LB | G14: Meta | K14: ¿Cuándo se logra? | L14: Comentarios
B15: =+'3- Resultados e Indicadores'!B12 -> 0 | C15: =+'3- Resultados e Indicadores'!C12 -> 0 | F15: =+'3- Resultados e Indicadores'!F12 -> 0 | G15: =+'3- Resultados e Indicadores'!G12 -> 0 | K15: =+'3- Resultados e Indicadores'!K12 -> 0
B16: Productos | C16: Línea Base | G16: Meta | K16: Plazo de entrega (# Trimestre) | L16: Comentarios
B17: Plan de instalación y línea base socioeconómica | C17: 0 fincas seleccionadas; sin línea base socioeconómica | G17: Plan operativo e institucional, Plan de Comunicación y PMFS aprobados; 60 fincas seleccionadas con acta de aceptación; línea base socioeconómica desagregada por sexo y condiciones de discapacidad. | K17: Trimestre 1 (día 90)
B18: Actividades Principales | E18: Presupuesto Total de la Actividad (Suma T1 a T11) | F18: Presupuesto S1 (nov-26 a abr-27) | G18: Presupuesto S2 (may-27 a oct-27) | H18: Presupuesto S3 (nov-27 a abr-28) | I18: Presupuesto S4 (may-28 a oct-28) | J18: Presupuesto S5 (nov-28 a abr-29) | K18: Presupuesto S6 (may-29 a oct-29)
E19: 0 | F19: $ | G19: $ | H19: $ | I19: $ | J19: $ | K19: $
E20: 0 | F20: $ | G20: $ | H20: $ | I20: $ | J20: $ | K20: $
E21: 0 | F21: $ | G21: $ | H21: $ | I21: $ | J21: $ | K21: $
E22: 0 | F22: $ | G22: $ | H22: $ | I22: $ | J22: $ | K22: $
E23: 0 | F23: $ | G23: $ | H23: $ | I23: $ | J23: $ | K23: $
B24: Presupuesto Total del Producto | E24: =SUM(E19:E23) -> 0 | F24: =SUM(F19:F23) -> 0 | G24: =SUM(G19:G23) -> 0 | H24: =SUM(H19:H23) -> 0 | I24: =SUM(I19:I23) -> 0 | J24: =SUM(J19:J23) -> 0 | K24: =SUM(K19:K23) -> 0
B25: Productos | C25: Línea Base | G25: Meta | K25: Plazo de entrega (# Trimestre) | L25: Comentarios
B26: Producto 2. Elaboración y validación de los 60 Planes de Manejo de Finca | C26: 0 PMF elaborados | G26: 60 PMF elaborados, validados tripartitamente y entregados, con análisis de suelos, cartografía digital georreferenciada y plan de inversión predial | K26: Trimestre 3 (día 270)
B27: Actividades Principales | E27: Presupuesto Total de la Actividad (Suma T1 a T6) | F27: Presupuesto S1 (nov-26 a abr-27) | G27: Presupuesto S2 (may-27 a oct-27) | H27: Presupuesto S3 (nov-27 a abr-28) | I27: Presupuesto S4 (may-28 a oct-28) | J27: Presupuesto S5 (nov-28 a abr-29) | K27: Presupuesto S6 (may-29 a oct-29)
E28: 0 | F28: 0 | G28: 0 | H28: 0 | I28: 0 | J28: 0 | K28: 0
E29: 0 | F29: 0 | G29: 0 | H29: 0 | I29: 0 | J29: 0 | K29: 0
E30: 0 | F30: 0 | G30: 0 | H30: 0 | I30: 0 | J30: 0 | K30: 0
B31: Presupuesto Total del Producto | E31: =SUM(E28:E30) -> 0 | F31: =SUM(F28:F30) -> 0 | G31: =SUM(G28:G30) -> 0 | H31: =SUM(H28:H30) -> 0 | I31: =SUM(I28:I30) -> 0 | J31: =SUM(J28:J30) -> 0 | K31: =SUM(K28:K30) -> 0
B33: Resultado #2 - Objetivo Específico #2 - Componente 2
B34: =+'3- Resultados e Indicadores'!B15 -> 0
B35: Indicador de Resultado 2 | C35: Línea Base | F35: Año de LB | G35: Meta | K35: ¿Cuándo se logra? # trimestre | L35: Comentarios
B36: =+'3- Resultados e Indicadores'!B17 -> 0 | C36: =+'3- Resultados e Indicadores'!B15 -> 0 | F36: =+'3- Resultados e Indicadores'!F17 -> 0 | G36: =+'3- Resultados e Indicadores'!G17 -> 0 | K36: =+'3- Resultados e Indicadores'!K17 -> 0
B37: Productos | C37: Línea Base | G37: Meta | K37: Plazo de entrega (# Trimestre) | L37: Comentarios
B38: IMPLEMENTACIÓN DE FINCAS MODELO Y ESCUELAS DE CAMPO AGRÍCOLAS | C38: 0 fincas modelo; 0 ECA ejecutadas | G38: 5 fincas modelo equipadas e inauguradas, al menos 2 lideradas por mujeres; un mínimo de 20 ECA ejecutadas con 60 participantes | K38: Trimestre 6 (día 540)
B39: Actividades Principales | E39: Presupuesto Total de la Actividad (Suma T1 a T6) | F39: Presupuesto S1 (nov-26 a abr-27) | G39: Presupuesto S2 (may-27 a oct-27) | H39: Presupuesto S3 (nov-27 a abr-28) | I39: Presupuesto S4 (may-28 a oct-28) | J39: Presupuesto S5 (nov-28 a abr-29) | K39: Presupuesto S6 (may-29 a oct-29)
E40: =SUM(F40:K40) -> 0 | F40: 0 | G40: 0 | H40: 0 | I40: 0 | J40: 0 | K40: 0
E41: =SUM(F41:K41) -> 0 | F41: 0 | G41: 0 | H41: 0 | I41: 0 | J41: 0 | K41: 0
E42: =SUM(F42:K42) -> 0 | F42: 0 | G42: 0 | H42: 0 | I42: 0 | J42: 0 | K42: 0
E43: =SUM(F43:K43) -> 0 | F43: 0 | G43: 0 | H43: 0 | I43: 0 | J43: 0 | K43: 0
E44: =SUM(F44:K44) -> 0 | F44: 0 | G44: 0 | H44: 0 | I44: 0 | J44: 0 | K44: 0
B45: Presupuesto Total del Producto | E45: =SUM(E40:E44) -> 0 | F45: =SUM(F40:F44) -> 0 | G45: =SUM(G40:G44) -> 0 | H45: =SUM(H40:H44) -> 0 | I45: =SUM(I40:I44) -> 0 | J45: =SUM(J40:J44) -> 0 | K45: =SUM(K40:K44) -> 0
B46: Productos | C46: Línea Base | G46: Meta | K46: Plazo de entrega (# Trimestre) | L46: Comentarios
...

Sheet 5-PP Total
B1: FUNDACIÓN NATURA
B2: Matriz de Resultados Ciclo de Proyectos | E2: Verificación de Presupuesto
B3: Presupuesto del Proyecto | E3: Porcentaje Recomendado sobre el Total del Proyecto | G3: Porcentaje Real sobre el Total del Proyecto
B4: Partidas Presupuestarias | C4: Monto
B5: Productos | C5: =SUM(C6:C13) -> 0 | G5: =+C5/$C$37 -> #DIV/0!
B6: =+'4- Productos y Actividades'!B17 -> Plan de instalación y línea base socioeconómica | C6: =+'4- Productos y Actividades'!E24 -> 0
B7: =+'4- Productos y Actividades'!B26 -> Producto 2. Elaboración y validación de los 60 Planes de Manejo de Finca | C7: =+'4- Productos y Actividades'!E31 -> 0
B8: =+'4- Productos y Actividades'!B38 -> IMPLEMENTACIÓN DE FINCAS MODELO Y ESCUELAS DE CAMPO AGRÍCOLAS | C8: =+'4- Productos y Actividades'!E45 -> 0
B9: =+'4- Productos y Actividades'!B47 -> IMPLEMENTACIÓN TECNOLÓGICA Y SISTEMA DE MONITOREO AGROAMBIENTAL | C9: =+'4- Productos y Actividades'!E52 -> 0
B10: =+'4- Productos y Actividades'!B54 -> No aplica. El Subproyecto 1.1.1 tiene seis productos, mapeados en los slots 1.1, 1.2, 2.1, 3.1, 3.2 y 3.3. | C10: =+'4- Productos y Actividades'!E59 -> 0
B11: =+'4- Productos y Actividades'!B66 -> Producto 4a. Implementación física en las primeras 30 fincas | C11: =+'4- Productos y Actividades'!E71 -> 0
B12: =+'4- Productos y Actividades'!B73 -> Producto 4b. Implementación física al 100% y monitoreo agroambiental | C12: =+'4- Productos y Actividades'!E78 -> 0
B13: =+'4- Productos y Actividades'!B80 -> Producto 5. Informes, sistematización, auditoría y cierre | C13: =+'4- Productos y Actividades'!E85 -> 0
B14: Planificación y Divulgación del Proyecto | C14: =SUM(C15:C17) -> 0 | E14: 0.034334455 | G14: =+C14/$C$37 -> #DIV/0!
B15: Plan de Gestión de Riesgos | C15: 0
B16: Plan de Gestión Ambiental y Social | C16: 0
B17: Plan de Comunicación del Proyecto | C17: 0
B18: Insumos: Equipo y Herramientas para el Proyecto | C18: =SUM(C19:C24) -> 0 | E18: 0.030328768 | G18: =+C18/$C$37 -> #DIV/0!
B19: Equipo Rodante (solo con contrapartida) | C19: 0
B20: Equipo Acuático | C20: 0
B21: Mobiliario y Equipo de Oficina (solo con contrapartida) | C21: 0
B22: Equipo de Comunicación y Audivisual | C22: 0
B23: Equipo de Computo | C23: 0
B24: Equipo de Campo | C24: 0
B25: Recursos Humanos: Personal Asignado para el Proyecto | C25: =+C26 -> 0 | E25: 0.14648795 | G25: =+C25/$C$37 -> #DIV/0!
B26: Coordinador del Proyecto + Técnico del Proyecto | C26: 0
B27: Subtotal de Prespuesto de Inversión del Proyecto | C27: =+C25+C18+C14+C5 -> 0
B28: Seguimiento, Monitoreo y Evaluación del Proyecto [15% del subtotal de Presupuesto de Inversión del Proyecto] | C28: =SUM(C29:C34) -> 0 | E28: 0.11750881 | G28: =+C28/$C$37 -> #DIV/0!
B29: Consultor responsable del monitoreo del proyecto | C29: 0
B30: Evaluación Intermedia del proyecto | C30: 0
B31: Evaluación Externa Final del proyecto | C31: 0
B32: Plan de Sistematización del Proyecto (3% del total del proyecto) | C32: 0
B33: Taller de Cierre del Proyecto | C33: 0
B34: Auditoría Externa Costos Directos (5% de los 12%) | C34: 0
B35: Presupuesto de Inversión | C35: =+C27+C28 -> 0
B36: PRESUPUESTO DE ADMINISTRACIÓN | C36: 0 | D36: Cero por diseño: en este Subproyecto la administración va imputada DENTRO de cada producto, conforme a la clasificación 70/30 del TdR. La formula original de la plantilla (=+C36*10%) habría elevado el proyecto a US$797.500. | E36: 0.099099099 | G36: =+C36/$C$37 -> #DIV/0!
B37: PRESUPUESTO DEL PROYECTO [presupuesto de inversión + Administración] | C37: =+C35+C36 -> 0 | G37: =+G36+G28+G25+G18+G14+G5 -> #DIV/0!

Sheet 6-Ejemplo de MdR
A2: FUNDACIÓN NATURA
A3: Matriz de Resultados Ciclo de Proyectos
A5: Matriz de Resultados del Proyecto
A6: Nombre del Proyecto | C6: [Ingrese el nombre del Proyecto]
A7: Objetivo General | C7: [ingrese el objetivo General]
A8: Objetivos específicos | C8: 1. [objetivo específico 1] 2. [Objetivo específico 2] 3. [Objetivo específico 3]
A10: Impacto Esperado
A11: IMPACTO ESPERADO DEL PROYECTO:
A12: Indicador | C12: Unidad de Medida | D12: Línea de Base (LB) | E12: Año de LB | G12: Trimestre 1 | H12: Trimestre 2 | I12: Trimestre 3 | J12: Trimestre 4 | K12: Trimestre 5 | L12: Trimestre 6 | M12: Meta Final del Proyecto | N12: Medios de Verificación | O12: Comentarios
A15: Resultados Esperados
A16: RESULTADO #1:
A17: Indicador | C17: Unidad de Medida | D17: Línea de Base (LB) | E17: Año de LB | G17: Trimestre 1 | H17: Trimestre 2 | I17: Trimestre 3 | J17: Trimestre 4 | K17: Trimestre 5 | L17: Trimestre 6 | M17: Meta Final del Proyecto | N17: Medios de Verificación | O17: Comentarios
A19: RESULTADO #2:
A20: Indicador | C20: Unidad de Medida | D20: Línea de Base (LB) | E20: Año de LB | G20: Trimestre 1 | H20: Trimestre 2 | I20: Trimestre 3 | J20: Trimestre 4 | K20: Trimestre 5 | L20: Trimestre 6 | M20: Meta Final del Proyecto | N20: Medios de Verificación | O20: Comentarios
A22: RESULTADO #3:
A23: Indicador | C23: Unidad de Medida | D23: Línea de Base (LB) | E23: Año de LB | G23: Trimestre 1 | H23: Trimestre 2 | I23: Trimestre 3 | J23: Trimestre 4 | K23: Trimestre 5 | L23: Trimestre 6 | M23: Meta Final del Proyecto | N23: Medios de Verificación | O23: Comentarios
A25: RESULTADO #4:
A26: Indicador | C26: Unidad de Medida | D26: Línea de Base (LB) | E26: Año de LB | G26: Trimestre 1 | H26: Trimestre 2 | I26: Trimestre 3 | J26: Trimestre 4 | K26: Trimestre 5 | L26: Trimestre 6 | M26: Meta Final del Proyecto | N26: Medios de Verificación | O26: Comentarios
A29: Productos
A30: [Componente 1] | D30: =+D31+D50 -> 0
A31: [Sub-Componente 1.2] | D31: =+D34+D40+D45 -> 0
A32: Producto | B32: Unidad de Medida | C32: Resultado Asociado | D32: Costo | E32: Línea de Base | F32: Año de línea base | G32: Trimestre 1 | H32: Trimestre 2 | I32: Trimestre 3 | J32: Trimestre 4 | K32: Trimestre 5 | L32: Trimestre 6 | M32: Meta Final del Proyecto | N32: Medios de Verificación | O32: Comentarios
D33: (US$) | F33: [año]
A34: Producto 1.1 | D34: =SUM(D35:D39) -> 0 | E34: 0 | F34: 0 | G34: 0 | H34: 0 | I34: 0 | J34: 0 | K34: 0 | L34: 0 | M34: =SUM(G34:L34) -> 0
A35: Actividad Principal 1.1.1 | D35: 0 | E35: 0 | F35: 0 | G35: 0 | H35: 0 | I35: 0 | J35: 0 | K35: 0 | L35: 0 | M35: =SUM(G35:L35) -> 0
A36: Actividad Principal 1.1.2 | D36: 0 | E36: 0 | F36: 0 | G36: 0 | H36: 0 | I36: 0 | J36: 0 | K36: 0 | L36: 0 | M36: =SUM(G36:L36) -> 0
A37: Actividad Principal 1.1.3 | D37: 0 | E37: 0 | F37: 0 | G37: 0 | H37: 0 | I37: 0 | J37: 0 | K37: 0 | L37: 0 | M37: =SUM(G37:L37) -> 0
A38: Actividad Principal 1.1.4 | D38: 0 | E38: 0 | F38: 0 | G38: 0 | H38: 0 | I38: 0 | J38: 0 | K38: 0 | L38: 0 | M38: =SUM(G38:L38) -> 0
A39: Actividad Principal 1.1.5 | D39: 0 | E39: 0 | F39: 0 | G39: 0 | H39: 0 | I39: 0 | J39: 0 | K39: 0 | L39: 0 | M39: =SUM(G39:L39) -> 0
A40: Producto 1.2 | D40: =SUM(D41:D44) -> 0 | E40: 0 | F40: 0 | G40: 0 | H40: 0 | I40: 0 | J40: 0 | K40: 0 | L40: 0 | M40: =SUM(G40:L40) -> 0
A41: Actividad Principal 1.2.1 | D41: 0 | E41: 0 | F41: 0 | G41: 0 | H41: 0 | I41: 0 | J41: 0 | K41: 0 | L41: 0 | M41: =SUM(G41:L41) -> 0
A42: Actividad Principal 1.2.2 | D42: 0 | E42: 0 | F42: 0 | G42: 0 | H42: 0 | I42: 0 | J42: 0 | K42: 0 | L42: 0 | M42: =SUM(G42:L42) -> 0
A43: Actividad Principal 1.2.3 | D43: 0 | E43: 0 | F43: 0 | G43: 0 | H43: 0 | I43: 0 | J43: 0 | K43: 0 | L43: 0 | M43: =SUM(G43:L43) -> 0
A44: Actividad Principal 1.2.4 | D44: 0 | E44: 0 | F44: 0 | G44: 0 | H44: 0 | I44: 0 | J44: 0 | K44: 0 | L44: 0 | M44: =SUM(G44:L44) -> 0
A45: Producto 1.3 | D45: =SUM(D46:D49) -> 0 | E45: 0 | F45: 0 | G45: 0 | H45: 0 | I45: 0 | J45: 0 | K45: 0 | L45: 0 | M45: =SUM(G45:L45) -> 0
A46: Actividad Principal 1.3.1 | D46: 0 | E46: 0 | F46: 0 | G46: 0 | H46: 0 | I46: 0 | J46: 0 | K46: 0 | L46: 0 | M46: =SUM(G46:L46) -> 0
A47: Actividad Principal 1.3.2 | D47: 0 | E47: 0 | F47: 0 | G47: 0 | H47: 0 | I47: 0 | J47: 0 | K47: 0 | L47: 0 | M47: =SUM(G47:L47) -> 0
A48: Actividad Principal 1.3.3 | D48: 0 | E48: 0 | F48: 0 | G48: 0 | H48: 0 | I48: 0 | J48: 0 | K48: 0 | L48: 0 | M48: =SUM(G48:L48) -> 0
A49: Actividad Principal 1.3.4 | D49: 0 | E49: 0 | F49: 0 | G49: 0 | H49: 0 | I49: 0 | J49: 0 | K49: 0 | L49: 0 | M49: =SUM(G49:L49) -> 0
A50: [Sub-Componente 1.2] | D50: =+D53 -> 0
...
